BEGIN:VCALENDAR
VERSION:2.0
PRODID:-//ExpressionEngine Easy iCalendar plugin//NONSGML v2.0.0//EN
X-WR-TIMEZONE:America/Chicago
X-WR-CALNAME:Upcoming Auctions
BEGIN:VEVENT
UID:146586
DTSTAMP:20251004T140000
DTSTART:20251004T140000
DTEND:20251004T150000
SUMMARY:12110 E Laguna Street
LOCATION:12110 E Laguna Street\, Wichita\, KS 67207\, US
DESCRIPTION:4-BR\, 2.5-BA home in SE Wichita with 2-car garage. 
URL:https://www.penfedauctions.com/auctions/detail/bw146586
SEQUENCE:1
END:VEVENT
END:VCALENDAR