BEGIN:VCALENDAR
VERSION:2.0
PRODID:-//ExpressionEngine Easy iCalendar plugin//NONSGML v2.0.0//EN
X-WR-TIMEZONE:America/Chicago
X-WR-CALNAME:Upcoming Auctions
BEGIN:VEVENT
UID:154690
DTSTAMP:20260218T140000
DTSTART:20260218T140000
DTEND:20260225T180000
SUMMARY:513 N Madison Ave
LOCATION:513 N Madison Ave\, Anthony\, KS 67003\, US
DESCRIPTION:Mid-Century Modern Opportunity in Anthony\, KS Seize a rare o
 pportunity to own a piece of architectural history at 513 N 
 Madison Ave\, Anthony\, KS. This stunning 1\,597 sqft Mid-Centu
 ry Modern home is a testament to timeless design\, featuring 
 the clean lines\, functionality\, and indoor-outdoor flow that
  modern buyers crave.
URL:https://www.penfedauctions.com/auctions/detail/bw154690
SEQUENCE:1
END:VEVENT
END:VCALENDAR