BEGIN:VCALENDAR
VERSION:2.0
PRODID:-//ExpressionEngine Easy iCalendar plugin//NONSGML v2.0.1//EN
X-WR-TIMEZONE:America/Chicago
X-WR-CALNAME:Upcoming Auctions
BEGIN:VEVENT
UID:155693
DTSTAMP:20260311T140000
DTSTART:20260311T140000
DTEND:20260318T180000
SUMMARY:3430 E Crystal Street
LOCATION:3430 E Crystal Street\, Wichita\, KS 67216\, US
DESCRIPTION:3 Bedroom 1 1/2 Bath Brick Ranch Quality construction meets 
 significant land value in this full-brick ranch on a sprawli
 ng 0.53-acre lot. Built for longevity\, the home features a c
 lassic floor plan on a crawl space foundation and retains it
 s original windows with added storm windows for protection. 
 Highlighting the property is a newer 20x12 detached metal si
 ded/roofed garage (added in 2021)\, offering a perfect worksp
 ace or secure storage. The interior is anchored by two firep
 laces—one wood-burning and one decorative. Located in a qu
 iet neighborhood just minutes from Boeing and McConnell AFB\,
  this property offers massive equity potential for a buyer r
 eady to personalize a solid-built home. 
URL:https://www.penfedauctions.com/auctions/detail/bw155693
SEQUENCE:1
END:VEVENT
END:VCALENDAR