BEGIN:VCALENDAR
VERSION:2.0
PRODID:-//ExpressionEngine Easy iCalendar plugin//NONSGML v2.0.1//EN
X-WR-TIMEZONE:America/Chicago
X-WR-CALNAME:Upcoming Auctions
BEGIN:VEVENT
UID:160707
DTSTAMP:20260606T100000
DTSTART:20260606T100000
DTEND:20260606T110000
SUMMARY:Estate of Elmer & Alice Simon~10283 SW White Rd\, Augusta\, KS
LOCATION:{location}
DESCRIPTION:Estate of Elmer & Alice Simon~10283 SW White Rd\, Augusta\, KS
URL:https://www.penfedauctions.com/auctions/detail/bw160707
SEQUENCE:1
END:VEVENT
END:VCALENDAR