BEGIN:VCALENDAR
VERSION:2.0
PRODID:-//ExpressionEngine Easy iCalendar plugin//NONSGML v2.0.1//EN
X-WR-TIMEZONE:America/Chicago
X-WR-CALNAME:Upcoming Auctions
BEGIN:VEVENT
UID:160708
DTSTAMP:20260517T130000
DTSTART:20260517T130000
DTEND:20260517T140000
SUMMARY:Holt~2632 131st Rd\, Rock\, KS
LOCATION:{location}
DESCRIPTION:Holt~2632 131st Rd\, Rock\, KS
URL:https://www.penfedauctions.com/auctions/detail/bw160708
SEQUENCE:1
END:VEVENT
END:VCALENDAR